Package: Nebulosa Version: 1.14.0 Command: /Library/Frameworks/R.framework/Resources/bin/R CMD INSTALL Nebulosa StartedAt: 2024-06-09 16:14:44 -0400 (Sun, 09 Jun 2024) EndedAt: 2024-06-09 16:15:27 -0400 (Sun, 09 Jun 2024) EllapsedTime: 42.4 seconds RetCode: 0 Status: OK