Package: Nebulosa Version: 1.14.0 Command: /Library/Frameworks/R.framework/Resources/bin/R CMD check --install=check:Nebulosa.install-out.txt --library=/Library/Frameworks/R.framework/Resources/library --no-vignettes --timings Nebulosa_1.14.0.tar.gz StartedAt: 2024-06-10 23:42:48 -0400 (Mon, 10 Jun 2024) EndedAt: 2024-06-10 23:48:19 -0400 (Mon, 10 Jun 2024) EllapsedTime: 330.7 seconds RetCode: 0 Status: OK CheckDir: Nebulosa.Rcheck Warnings: 0