Package: NanoTube Version: 1.10.0 Command: E:\biocbuild\bbs-3.19-bioc\R\bin\R.exe CMD INSTALL NanoTube StartedAt: 2024-10-16 17:04:16 -0400 (Wed, 16 Oct 2024) EndedAt: 2024-10-16 17:04:49 -0400 (Wed, 16 Oct 2024) EllapsedTime: 32.9 seconds RetCode: 0 Status: OK