Package: NanoTube Version: 1.10.0 Command: chmod a+r NanoTube -R && E:\biocbuild\bbs-3.19-bioc\R\bin\R.exe CMD build --keep-empty-dirs --no-resave-data NanoTube StartedAt: 2024-10-16 20:40:13 -0400 (Wed, 16 Oct 2024) EndedAt: 2024-10-16 20:42:00 -0400 (Wed, 16 Oct 2024) EllapsedTime: 107.7 seconds RetCode: 0 Status: OK PackageFile: NanoTube_1.10.0.tar.gz PackageFileSize: 1.641 MiB