Package: NanoTube Version: 1.10.0 Command: F:\biocbuild\bbs-3.19-bioc\R\bin\R.exe CMD INSTALL NanoTube StartedAt: 2024-06-26 16:36:49 -0400 (Wed, 26 Jun 2024) EndedAt: 2024-06-26 16:37:08 -0400 (Wed, 26 Jun 2024) EllapsedTime: 19.1 seconds RetCode: 0 Status: OK