Package: NanoTube Version: 1.10.0 Command: rm -rf NanoTube.buildbin-libdir && mkdir NanoTube.buildbin-libdir && F:\biocbuild\bbs-3.19-bioc\R\bin\R.exe CMD INSTALL --build --library=NanoTube.buildbin-libdir NanoTube_1.10.0.tar.gz StartedAt: 2024-06-27 08:35:15 -0400 (Thu, 27 Jun 2024) EndedAt: 2024-06-27 08:35:35 -0400 (Thu, 27 Jun 2024) EllapsedTime: 20.1 seconds RetCode: 0 Status: OK PackageFile: NanoTube_1.10.0.zip PackageFileSize: 1.9 MiB