Package: NanoTube Version: 1.10.0 Command: /Library/Frameworks/R.framework/Resources/bin/R CMD build --keep-empty-dirs --no-resave-data NanoTube StartedAt: 2024-10-16 21:32:15 -0400 (Wed, 16 Oct 2024) EndedAt: 2024-10-16 21:34:11 -0400 (Wed, 16 Oct 2024) EllapsedTime: 116.2 seconds RetCode: 0 Status: OK PackageFile: NanoTube_1.10.0.tar.gz PackageFileSize: 2.007 MiB