Package: NanoTube Version: 1.10.0 Command: /Library/Frameworks/R.framework/Resources/bin/R CMD INSTALL NanoTube StartedAt: 2024-10-16 18:10:54 -0400 (Wed, 16 Oct 2024) EndedAt: 2024-10-16 18:11:06 -0400 (Wed, 16 Oct 2024) EllapsedTime: 11.8 seconds RetCode: 0 Status: OK