Package: NanoTube Version: 1.10.0 Command: /Library/Frameworks/R.framework/Resources/bin/R CMD check --install=check:NanoTube.install-out.txt --library=/Library/Frameworks/R.framework/Resources/library --no-vignettes --timings NanoTube_1.10.0.tar.gz StartedAt: 2024-10-18 05:47:30 -0400 (Fri, 18 Oct 2024) EndedAt: 2024-10-18 05:49:29 -0400 (Fri, 18 Oct 2024) EllapsedTime: 118.9 seconds RetCode: 0 Status: OK CheckDir: NanoTube.Rcheck Warnings: 0