Package: NanoStringNCTools Version: 1.12.0 Command: E:\biocbuild\bbs-3.19-bioc\R\bin\R.exe CMD INSTALL NanoStringNCTools StartedAt: 2024-10-16 16:38:39 -0400 (Wed, 16 Oct 2024) EndedAt: 2024-10-16 16:40:42 -0400 (Wed, 16 Oct 2024) EllapsedTime: 123.8 seconds RetCode: 0 Status: OK