Package: NanoStringNCTools Version: 1.12.0 Command: /home/biocbuild/bbs-3.19-bioc/R/bin/R CMD build --keep-empty-dirs --no-resave-data NanoStringNCTools StartedAt: 2024-10-16 19:45:04 -0400 (Wed, 16 Oct 2024) EndedAt: 2024-10-16 19:45:31 -0400 (Wed, 16 Oct 2024) EllapsedTime: 27.2 seconds RetCode: 0 Status: OK PackageFile: NanoStringNCTools_1.12.0.tar.gz PackageFileSize: 324.7 KiB