Package: NanoStringNCTools Version: 1.12.0 Command: /Library/Frameworks/R.framework/Resources/bin/R CMD check --install=check:NanoStringNCTools.install-out.txt --library=/Library/Frameworks/R.framework/Resources/library --no-vignettes --timings NanoStringNCTools_1.12.0.tar.gz StartedAt: 2024-10-17 09:54:00 -0400 (Thu, 17 Oct 2024) EndedAt: 2024-10-17 09:59:06 -0400 (Thu, 17 Oct 2024) EllapsedTime: 305.8 seconds RetCode: 0 Status: OK CheckDir: NanoStringNCTools.Rcheck Warnings: 0