Package: NanoStringNCTools Version: 1.12.0 Command: /Library/Frameworks/R.framework/Resources/bin/R CMD build --keep-empty-dirs --no-resave-data NanoStringNCTools StartedAt: 2024-10-16 21:31:19 -0400 (Wed, 16 Oct 2024) EndedAt: 2024-10-16 21:32:49 -0400 (Wed, 16 Oct 2024) EllapsedTime: 90.6 seconds RetCode: 0 Status: OK PackageFile: NanoStringNCTools_1.12.0.tar.gz PackageFileSize: 376.9 KiB