Package: NanoStringNCTools Version: 1.12.0 Command: /home/biocbuild/R/R-beta-2024-04-15_r86425/bin/R CMD INSTALL NanoStringNCTools StartedAt: 2024-05-08 20:34:06 -0000 (Wed, 08 May 2024) EndedAt: 2024-05-08 20:34:29 -0000 (Wed, 08 May 2024) EllapsedTime: 23.5 seconds RetCode: 0 Status: OK