Package: NanoStringNCTools Version: 1.12.0 Command: /home/biocbuild/R/R-beta-2024-04-15_r86425/bin/R CMD build --keep-empty-dirs --no-resave-data NanoStringNCTools StartedAt: 2024-05-09 02:04:13 -0000 (Thu, 09 May 2024) EndedAt: 2024-05-09 02:04:53 -0000 (Thu, 09 May 2024) EllapsedTime: 40.1 seconds RetCode: 0 Status: OK PackageFile: NanoStringNCTools_1.12.0.tar.gz PackageFileSize: 310.4 KiB