Package: NanoStringNCTools Version: 1.12.0 Command: /Library/Frameworks/R.framework/Resources/bin/R CMD build --keep-empty-dirs --no-resave-data NanoStringNCTools StartedAt: 2024-06-10 01:32:21 -0400 (Mon, 10 Jun 2024) EndedAt: 2024-06-10 01:33:00 -0400 (Mon, 10 Jun 2024) EllapsedTime: 39.3 seconds RetCode: 0 Status: OK PackageFile: NanoStringNCTools_1.12.0.tar.gz PackageFileSize: 377.3 KiB