Package: NanoStringNCTools Version: 1.12.0 Command: rm -rf NanoStringNCTools.buildbin-libdir && mkdir NanoStringNCTools.buildbin-libdir && /Users/biocbuild/BBS/utils/build-universal.sh NanoStringNCTools_1.12.0.tar.gz /Library/Frameworks/R.framework/Resources/bin/R NanoStringNCTools.buildbin-libdir StartedAt: 2024-06-11 12:17:35 -0400 (Tue, 11 Jun 2024) EndedAt: 2024-06-11 12:18:10 -0400 (Tue, 11 Jun 2024) EllapsedTime: 34.9 seconds RetCode: 0 Status: OK PackageFile: NanoStringNCTools_1.12.0.tgz PackageFileSize: 945.3 KiB