Package: NanoStringDiff Version: 1.34.0 Command: E:\biocbuild\bbs-3.19-bioc\R\bin\R.exe CMD INSTALL NanoStringDiff StartedAt: 2024-10-16 16:02:50 -0400 (Wed, 16 Oct 2024) EndedAt: 2024-10-16 16:03:31 -0400 (Wed, 16 Oct 2024) EllapsedTime: 41.2 seconds RetCode: 0 Status: OK