Package: NanoStringDiff Version: 1.34.0 Command: chmod a+r NanoStringDiff -R && E:\biocbuild\bbs-3.19-bioc\R\bin\R.exe CMD build --keep-empty-dirs --no-resave-data NanoStringDiff StartedAt: 2024-10-16 20:39:54 -0400 (Wed, 16 Oct 2024) EndedAt: 2024-10-16 20:40:30 -0400 (Wed, 16 Oct 2024) EllapsedTime: 36.2 seconds RetCode: 0 Status: OK PackageFile: NanoStringDiff_1.34.0.tar.gz PackageFileSize: 280.2 KiB