Package: NanoStringDiff Version: 1.34.0 Command: rm -rf NanoStringDiff.buildbin-libdir && mkdir NanoStringDiff.buildbin-libdir && E:\biocbuild\bbs-3.19-bioc\R\bin\R.exe CMD INSTALL --build --library=NanoStringDiff.buildbin-libdir NanoStringDiff_1.34.0.tar.gz StartedAt: 2024-10-17 08:14:41 -0400 (Thu, 17 Oct 2024) EndedAt: 2024-10-17 08:15:29 -0400 (Thu, 17 Oct 2024) EllapsedTime: 47.7 seconds RetCode: 0 Status: OK PackageFile: NanoStringDiff_1.34.0.zip PackageFileSize: 644.7 KiB