Package: NanoStringDiff Version: 1.34.0 Command: chmod a+r NanoStringDiff -R && F:\biocbuild\bbs-3.19-bioc\R\bin\R.exe CMD build --keep-empty-dirs --no-resave-data NanoStringDiff StartedAt: 2024-06-26 20:26:16 -0400 (Wed, 26 Jun 2024) EndedAt: 2024-06-26 20:26:55 -0400 (Wed, 26 Jun 2024) EllapsedTime: 38.5 seconds RetCode: 0 Status: OK PackageFile: NanoStringDiff_1.34.0.tar.gz PackageFileSize: 279.5 KiB