Package: NanoStringDiff Version: 1.34.0 Command: rm -rf NanoStringDiff.buildbin-libdir && mkdir NanoStringDiff.buildbin-libdir && F:\biocbuild\bbs-3.19-bioc\R\bin\R.exe CMD INSTALL --build --library=NanoStringDiff.buildbin-libdir NanoStringDiff_1.34.0.tar.gz StartedAt: 2024-06-27 08:35:11 -0400 (Thu, 27 Jun 2024) EndedAt: 2024-06-27 08:35:37 -0400 (Thu, 27 Jun 2024) EllapsedTime: 26.6 seconds RetCode: 0 Status: OK PackageFile: NanoStringDiff_1.34.0.zip PackageFileSize: 644.1 KiB