Package: NanoStringDiff Version: 1.34.0 Command: /home/biocbuild/bbs-3.19-bioc/R/bin/R CMD build --keep-empty-dirs --no-resave-data NanoStringDiff StartedAt: 2024-10-16 19:44:59 -0400 (Wed, 16 Oct 2024) EndedAt: 2024-10-16 19:45:17 -0400 (Wed, 16 Oct 2024) EllapsedTime: 18.2 seconds RetCode: 0 Status: OK PackageFile: NanoStringDiff_1.34.0.tar.gz PackageFileSize: 277.3 KiB