Package: NanoStringDiff Version: 1.34.0 Command: rm -rf NanoStringDiff.buildbin-libdir && mkdir NanoStringDiff.buildbin-libdir && /Users/biocbuild/BBS/utils/build-universal.sh NanoStringDiff_1.34.0.tar.gz /Library/Frameworks/R.framework/Resources/bin/R NanoStringDiff.buildbin-libdir StartedAt: 2024-10-17 16:43:00 -0400 (Thu, 17 Oct 2024) EndedAt: 2024-10-17 16:43:26 -0400 (Thu, 17 Oct 2024) EllapsedTime: 26.0 seconds RetCode: 0 Status: OK PackageFile: NanoStringDiff_1.34.0.tgz PackageFileSize: 470.8 KiB