Package: NanoStringDiff Version: 1.34.0 Command: /Library/Frameworks/R.framework/Resources/bin/R CMD build --keep-empty-dirs --no-resave-data NanoStringDiff StartedAt: 2024-06-09 17:29:47 -0400 (Sun, 09 Jun 2024) EndedAt: 2024-06-09 17:30:15 -0400 (Sun, 09 Jun 2024) EllapsedTime: 28.2 seconds RetCode: 0 Status: OK PackageFile: NanoStringDiff_1.34.0.tar.gz PackageFileSize: 415.5 KiB