Package: NanoStringDiff Version: 1.34.0 Command: /Library/Frameworks/R.framework/Resources/bin/R CMD INSTALL NanoStringDiff StartedAt: 2024-06-09 15:06:53 -0400 (Sun, 09 Jun 2024) EndedAt: 2024-06-09 15:07:09 -0400 (Sun, 09 Jun 2024) EllapsedTime: 15.5 seconds RetCode: 0 Status: OK