Package: NanoMethViz Version: 3.0.2 Command: E:\biocbuild\bbs-3.19-bioc\R\bin\R.exe CMD INSTALL NanoMethViz StartedAt: 2024-10-16 17:11:14 -0400 (Wed, 16 Oct 2024) EndedAt: 2024-10-16 17:13:56 -0400 (Wed, 16 Oct 2024) EllapsedTime: 162.3 seconds RetCode: 0 Status: OK