Package: NanoMethViz Version: 3.0.2 Command: chmod a+r NanoMethViz -R && E:\biocbuild\bbs-3.19-bioc\R\bin\R.exe CMD build --keep-empty-dirs --no-resave-data NanoMethViz StartedAt: 2024-10-16 20:39:47 -0400 (Wed, 16 Oct 2024) EndedAt: 2024-10-16 20:44:56 -0400 (Wed, 16 Oct 2024) EllapsedTime: 309.1 seconds RetCode: 0 Status: OK PackageFile: NanoMethViz_3.0.2.tar.gz PackageFileSize: 5.571 MiB