Package: NanoMethViz Version: 3.0.2 Command: chmod a+r NanoMethViz -R && F:\biocbuild\bbs-3.19-bioc\R\bin\R.exe CMD build --keep-empty-dirs --no-resave-data NanoMethViz StartedAt: 2024-06-26 20:26:09 -0400 (Wed, 26 Jun 2024) EndedAt: 2024-06-26 20:51:14 -0400 (Wed, 26 Jun 2024) EllapsedTime: 1505.4 seconds RetCode: 0 Status: OK PackageFile: NanoMethViz_3.0.2.tar.gz PackageFileSize: 5.571 MiB