Package: NanoMethViz Version: 3.0.2 Command: rm -rf NanoMethViz.buildbin-libdir && mkdir NanoMethViz.buildbin-libdir && F:\biocbuild\bbs-3.19-bioc\R\bin\R.exe CMD INSTALL --build --library=NanoMethViz.buildbin-libdir NanoMethViz_3.0.2.tar.gz StartedAt: 2024-06-27 08:35:08 -0400 (Thu, 27 Jun 2024) EndedAt: 2024-06-27 08:37:16 -0400 (Thu, 27 Jun 2024) EllapsedTime: 128.1 seconds RetCode: 0 Status: OK PackageFile: NanoMethViz_3.0.2.zip PackageFileSize: 6.661 MiB