Package: NanoMethViz Version: 3.0.2 Command: /home/biocbuild/bbs-3.19-bioc/R/bin/R CMD INSTALL NanoMethViz StartedAt: 2024-10-16 16:37:47 -0400 (Wed, 16 Oct 2024) EndedAt: 2024-10-16 16:38:52 -0400 (Wed, 16 Oct 2024) EllapsedTime: 64.1 seconds RetCode: 0 Status: OK