Package: NanoMethViz Version: 3.0.2 Command: /Library/Frameworks/R.framework/Resources/bin/R CMD build --keep-empty-dirs --no-resave-data NanoMethViz StartedAt: 2024-10-16 21:31:09 -0400 (Wed, 16 Oct 2024) EndedAt: 2024-10-16 21:40:35 -0400 (Wed, 16 Oct 2024) EllapsedTime: 565.8 seconds RetCode: 0 Status: OK PackageFile: NanoMethViz_3.0.2.tar.gz PackageFileSize: 6.996 MiB