Package: NanoMethViz Version: 3.0.1 Command: /home/biocbuild/R/R-beta-2024-04-15_r86425/bin/R CMD build --keep-empty-dirs --no-resave-data NanoMethViz StartedAt: 2024-05-09 02:03:42 -0000 (Thu, 09 May 2024) EndedAt: 2024-05-09 02:08:22 -0000 (Thu, 09 May 2024) EllapsedTime: 280.4 seconds RetCode: 0 Status: OK PackageFile: NanoMethViz_3.0.1.tar.gz PackageFileSize: 5.176 MiB