Package: NanoMethViz Version: 3.0.2 Command: rm -rf NanoMethViz.buildbin-libdir && mkdir NanoMethViz.buildbin-libdir && /Users/biocbuild/BBS/utils/build-universal.sh NanoMethViz_3.0.2.tar.gz /Library/Frameworks/R.framework/Resources/bin/R NanoMethViz.buildbin-libdir StartedAt: 2024-10-18 19:42:26 -0400 (Fri, 18 Oct 2024) EndedAt: 2024-10-18 19:43:58 -0400 (Fri, 18 Oct 2024) EllapsedTime: 91.9 seconds RetCode: 0 Status: OK PackageFile: NanoMethViz_3.0.2.tgz PackageFileSize: 7.72 MiB