Package: NTW Version: 1.54.0 Command: chmod a+r NTW -R && E:\biocbuild\bbs-3.19-bioc\R\bin\R.exe CMD build --keep-empty-dirs --no-resave-data NTW StartedAt: 2024-10-16 20:45:03 -0400 (Wed, 16 Oct 2024) EndedAt: 2024-10-16 20:45:21 -0400 (Wed, 16 Oct 2024) EllapsedTime: 17.6 seconds RetCode: 0 Status: OK PackageFile: NTW_1.54.0.tar.gz PackageFileSize: 752.9 KiB