Package: NTW Version: 1.54.0 Command: chmod a+r NTW -R && F:\biocbuild\bbs-3.19-bioc\R\bin\R.exe CMD build --keep-empty-dirs --no-resave-data NTW StartedAt: 2024-06-26 20:33:00 -0400 (Wed, 26 Jun 2024) EndedAt: 2024-06-26 20:33:16 -0400 (Wed, 26 Jun 2024) EllapsedTime: 16.1 seconds RetCode: 0 Status: OK PackageFile: NTW_1.54.0.tar.gz PackageFileSize: 752.8 KiB