Package: NTW Version: 1.54.0 Command: rm -rf NTW.buildbin-libdir && mkdir NTW.buildbin-libdir && F:\biocbuild\bbs-3.19-bioc\R\bin\R.exe CMD INSTALL --build --library=NTW.buildbin-libdir NTW_1.54.0.tar.gz StartedAt: 2024-06-27 08:36:31 -0400 (Thu, 27 Jun 2024) EndedAt: 2024-06-27 08:36:38 -0400 (Thu, 27 Jun 2024) EllapsedTime: 6.3 seconds RetCode: 0 Status: OK PackageFile: NTW_1.54.0.zip PackageFileSize: 503.1 KiB