Package: NTW Version: 1.54.0 Command: /Library/Frameworks/R.framework/Resources/bin/R CMD build --keep-empty-dirs --no-resave-data NTW StartedAt: 2024-10-16 21:40:00 -0400 (Wed, 16 Oct 2024) EndedAt: 2024-10-16 21:40:54 -0400 (Wed, 16 Oct 2024) EllapsedTime: 53.1 seconds RetCode: 0 Status: OK PackageFile: NTW_1.54.0.tar.gz PackageFileSize: 872 KiB