Package: NTW Version: 1.54.0 Command: /Library/Frameworks/R.framework/Resources/bin/R CMD check --install=check:NTW.install-out.txt --library=/Library/Frameworks/R.framework/Resources/library --no-vignettes --timings NTW_1.54.0.tar.gz StartedAt: 2024-06-09 21:55:29 -0400 (Sun, 09 Jun 2024) EndedAt: 2024-06-09 21:56:05 -0400 (Sun, 09 Jun 2024) EllapsedTime: 36.1 seconds RetCode: 0 Status: WARNINGS CheckDir: NTW.Rcheck Warnings: 1