Package: NTW Version: 1.54.0 Command: rm -rf NTW.buildbin-libdir && mkdir NTW.buildbin-libdir && /Users/biocbuild/BBS/utils/build-universal.sh NTW_1.54.0.tar.gz /Library/Frameworks/R.framework/Resources/bin/R NTW.buildbin-libdir StartedAt: 2024-06-10 00:30:21 -0400 (Mon, 10 Jun 2024) EndedAt: 2024-06-10 00:30:27 -0400 (Mon, 10 Jun 2024) EllapsedTime: 5.7 seconds RetCode: 0 Status: OK PackageFile: NTW_1.54.0.tgz PackageFileSize: 618.2 KiB