Package: NTW Version: 1.54.0 Command: /Library/Frameworks/R.framework/Resources/bin/R CMD check --install=check:NTW.install-out.txt --library=/Library/Frameworks/R.framework/Resources/library --no-vignettes --timings NTW_1.54.0.tar.gz StartedAt: 2024-10-18 06:12:20 -0400 (Fri, 18 Oct 2024) EndedAt: 2024-10-18 06:12:56 -0400 (Fri, 18 Oct 2024) EllapsedTime: 35.8 seconds RetCode: 0 Status: WARNINGS CheckDir: NTW.Rcheck Warnings: 1