Package: NOISeq Version: 2.48.0 Command: E:\biocbuild\bbs-3.19-bioc\R\bin\R.exe CMD INSTALL NOISeq StartedAt: 2024-10-16 16:02:03 -0400 (Wed, 16 Oct 2024) EndedAt: 2024-10-16 16:02:28 -0400 (Wed, 16 Oct 2024) EllapsedTime: 25.7 seconds RetCode: 0 Status: OK