Package: NOISeq Version: 2.48.0 Command: E:\biocbuild\bbs-3.19-bioc\R\bin\R.exe CMD check --no-multiarch --install=check:NOISeq.install-out.txt --library=E:\biocbuild\bbs-3.19-bioc\R\library --no-vignettes --timings NOISeq_2.48.0.tar.gz StartedAt: 2024-10-17 03:59:54 -0400 (Thu, 17 Oct 2024) EndedAt: 2024-10-17 04:01:50 -0400 (Thu, 17 Oct 2024) EllapsedTime: 116.8 seconds RetCode: 0 Status: OK CheckDir: NOISeq.Rcheck Warnings: 0