Package: NOISeq Version: 2.48.0 Command: rm -rf NOISeq.buildbin-libdir && mkdir NOISeq.buildbin-libdir && E:\biocbuild\bbs-3.19-bioc\R\bin\R.exe CMD INSTALL --build --library=NOISeq.buildbin-libdir NOISeq_2.48.0.tar.gz StartedAt: 2024-10-17 08:16:06 -0400 (Thu, 17 Oct 2024) EndedAt: 2024-10-17 08:16:31 -0400 (Thu, 17 Oct 2024) EllapsedTime: 24.9 seconds RetCode: 0 Status: OK PackageFile: NOISeq_2.48.0.zip PackageFileSize: 2.263 MiB