Package: NOISeq Version: 2.48.0 Command: F:\biocbuild\bbs-3.19-bioc\R\bin\R.exe CMD check --no-multiarch --install=check:NOISeq.install-out.txt --library=F:\biocbuild\bbs-3.19-bioc\R\library --no-vignettes --timings NOISeq_2.48.0.tar.gz StartedAt: 2024-06-27 04:15:28 -0400 (Thu, 27 Jun 2024) EndedAt: 2024-06-27 04:17:34 -0400 (Thu, 27 Jun 2024) EllapsedTime: 126.0 seconds RetCode: 0 Status: OK CheckDir: NOISeq.Rcheck Warnings: 0