Package: NOISeq Version: 2.48.0 Command: /Library/Frameworks/R.framework/Resources/bin/R CMD INSTALL NOISeq StartedAt: 2024-10-16 15:06:58 -0400 (Wed, 16 Oct 2024) EndedAt: 2024-10-16 15:07:31 -0400 (Wed, 16 Oct 2024) EllapsedTime: 32.9 seconds RetCode: 0 Status: OK