Package: NOISeq Version: 2.48.0 Command: /Library/Frameworks/R.framework/Resources/bin/R CMD build --keep-empty-dirs --no-resave-data NOISeq StartedAt: 2024-10-16 21:36:44 -0400 (Wed, 16 Oct 2024) EndedAt: 2024-10-16 21:40:07 -0400 (Wed, 16 Oct 2024) EllapsedTime: 202.6 seconds RetCode: 0 Status: OK PackageFile: NOISeq_2.48.0.tar.gz PackageFileSize: 2.057 MiB