Package: NOISeq Version: 2.48.0 Command: rm -rf NOISeq.buildbin-libdir && mkdir NOISeq.buildbin-libdir && /Users/biocbuild/BBS/utils/build-universal.sh NOISeq_2.48.0.tar.gz /Library/Frameworks/R.framework/Resources/bin/R NOISeq.buildbin-libdir StartedAt: 2024-10-17 16:44:31 -0400 (Thu, 17 Oct 2024) EndedAt: 2024-10-17 16:45:02 -0400 (Thu, 17 Oct 2024) EllapsedTime: 30.9 seconds RetCode: 0 Status: OK PackageFile: NOISeq_2.48.0.tgz PackageFileSize: 2.422 MiB