Package: NOISeq Version: 2.48.0 Command: /Library/Frameworks/R.framework/Resources/bin/R CMD check --install=check:NOISeq.install-out.txt --library=/Library/Frameworks/R.framework/Resources/library --no-vignettes --timings NOISeq_2.48.0.tar.gz StartedAt: 2024-06-10 23:55:42 -0400 (Mon, 10 Jun 2024) EndedAt: 2024-06-10 23:58:17 -0400 (Mon, 10 Jun 2024) EllapsedTime: 154.6 seconds RetCode: 0 Status: OK CheckDir: NOISeq.Rcheck Warnings: 0