Package: NOISeq Version: 2.48.0 Command: /Library/Frameworks/R.framework/Resources/bin/R CMD build --keep-empty-dirs --no-resave-data NOISeq StartedAt: 2024-06-10 01:45:55 -0400 (Mon, 10 Jun 2024) EndedAt: 2024-06-10 01:47:21 -0400 (Mon, 10 Jun 2024) EllapsedTime: 85.6 seconds RetCode: 0 Status: OK PackageFile: NOISeq_2.48.0.tar.gz PackageFileSize: 2.057 MiB